BEGIN:VCALENDAR
VERSION:2.0
PRODID:-//wp-events-plugin.com//7.2.3.1//EN
TZID:America/Toronto
X-WR-TIMEZONE:America/Toronto
BEGIN:VEVENT
UID:1731@electrofed.com
DTSTART;TZID=America/Toronto:20240523T160000
DTEND;TZID=America/Toronto:20240523T180000
DTSTAMP:20240516T154521Z
URL:https://www.electrofed.com/events/2024-quebec-region-womens-network-le
 an-in-on-negotiation/
SUMMARY:2024 Quebec Region Women’s Network Lean In on Negotiation
DESCRIPTION:EFC’s Women’s Network is a platform where women and support
 ers of women of EFC member companies can come together\, share their exper
 iences and their thoughts\, and support each other in a welcoming and rela
 xed environment.
CATEGORIES:Quebec
LOCATION:Franklin Empire Montréal\, 4605 Poirier Blvd\, Saint-Laurent\, Ca
 nada\, H4R 0S9\, Québec\, Canada
X-APPLE-STRUCTURED-LOCATION;VALUE=URI;X-ADDRESS=4605 Poirier Blvd\, Saint-L
 aurent\, Canada\, H4R 0S9\, Québec\, Canada;X-APPLE-RADIUS=100;X-TITLE=Fr
 anklin Empire Montréal:geo:0,0
END:VEVENT
BEGIN:VTIMEZONE
TZID:America/Toronto
X-LIC-LOCATION:America/Toronto
BEGIN:DAYLIGHT
DTSTART:20240310T030000
TZOFFSETFROM:-0500
TZOFFSETTO:-0400
TZNAME:EDT
END:DAYLIGHT
END:VTIMEZONE
END:VCALENDAR