BEGIN:VCALENDAR
VERSION:2.0
PRODID:-//wp-events-plugin.com//7.2.3.1//EN
TZID:America/Toronto
X-WR-TIMEZONE:America/Toronto
BEGIN:VEVENT
UID:1866@electrofed.com
DTSTART;TZID=America/Halifax:20251106T190000
DTEND;TZID=America/Halifax:20251106T210000
DTSTAMP:20251030T134357Z
URL:https://www.electrofed.com/events/atlantic-region-womens-network-bowli
 ng-night/
SUMMARY:Atlantic Region Women's Network Bowling Night
DESCRIPTION:        
CATEGORIES:Atlantic Canada
LOCATION:Bowlarama Entertainment Centre Bayers Road\, 3459 Desmond Ave\, Ha
 lifax\, NS\, B3L 0E5\, Atlantic \, Canada
X-APPLE-STRUCTURED-LOCATION;VALUE=URI;X-ADDRESS=3459 Desmond Ave\, Halifax\
 , NS\, B3L 0E5\, Atlantic \, Canada;X-APPLE-RADIUS=100;X-TITLE=Bowlarama E
 ntertainment Centre Bayers Road:geo:0,0
END:VEVENT
BEGIN:VTIMEZONE
TZID:America/Halifax
X-LIC-LOCATION:America/Halifax
BEGIN:STANDARD
DTSTART:20251102T010000
TZOFFSETFROM:-0300
TZOFFSETTO:-0400
TZNAME:AST
END:STANDARD
END:VTIMEZONE
END:VCALENDAR