BEGIN:VCALENDAR
VERSION:2.0
PRODID:-//wp-events-plugin.com//7.2.3.1//EN
TZID:America/Toronto
X-WR-TIMEZONE:America/Toronto
BEGIN:VEVENT
UID:1481@electrofed.com
DTSTART;TZID=America/Vancouver:20210525T000000
DTEND;TZID=America/Vancouver:20210525T000000
DTSTAMP:20201218T181727Z
URL:https://www.electrofed.com/events/bcea-diversity-equity-and-inclusion-
 education-series-building-an-inclusive-culture/
SUMMARY:BCEA Diversity Equity and Inclusion Education Series: Building an I
 nclusive Culture Webinar
DESCRIPTION:Failure to build an inclusive culture means that employees who 
 feel they don’t belong often leave or cover up their differences. \nHost
 ed by BCEA and sponsored by EFC\, join this virtual event. Complimentary r
 egistration for all EFC members.
CATEGORIES:National
LOCATION:No location\, 190 Attwell Drive\, Toronto\, Canada
GEO:56.130366;-106.346771
X-APPLE-STRUCTURED-LOCATION;VALUE=URI;X-ADDRESS=190 Attwell Drive\, Toronto
 \, Canada;X-APPLE-RADIUS=100;X-TITLE=No location:geo:56.130366,-106.346771
END:VEVENT
BEGIN:VTIMEZONE
TZID:America/Vancouver
X-LIC-LOCATION:America/Vancouver
BEGIN:DAYLIGHT
DTSTART:20210314T030000
TZOFFSETFROM:-0800
TZOFFSETTO:-0700
TZNAME:PDT
END:DAYLIGHT
END:VTIMEZONE
END:VCALENDAR