BEGIN:VCALENDAR
VERSION:2.0
PRODID:-//wp-events-plugin.com//7.2.3.1//EN
TZID:America/Toronto
X-WR-TIMEZONE:America/Toronto
BEGIN:VEVENT
UID:109@electrofed.com
DTSTART;TZID=America/Toronto:20190821T070000
DTEND;TZID=America/Toronto:20190821T170000
DTSTAMP:20190815T161959Z
URL:https://www.electrofed.com/events/efc-federation-cup-golf-tournament-2
 /
SUMMARY:EFC Federation Cup Golf Tournament
DESCRIPTION:\n\nEFC’s National Golf Tournament will be held on August 21s
 t\, 2019 at the prestigious Rattlesnake Point Golf Club in Milton Ontario.
 \n\nClick here for full details and to register.
CATEGORIES:National
LOCATION:Rattlesnake Point Golf Club\, 5407 Halton Regional Rd 25\, Milton\
 , ON\, L9T 2X5\, Canada
X-APPLE-STRUCTURED-LOCATION;VALUE=URI;X-ADDRESS=5407 Halton Regional Rd 25\
 , Milton\, ON\, L9T 2X5\, Canada;X-APPLE-RADIUS=100;X-TITLE=Rattlesnake Po
 int Golf Club:geo:0,0
END:VEVENT
BEGIN:VTIMEZONE
TZID:America/Toronto
X-LIC-LOCATION:America/Toronto
BEGIN:DAYLIGHT
DTSTART:20190310T030000
TZOFFSETFROM:-0500
TZOFFSETTO:-0400
TZNAME:EDT
END:DAYLIGHT
END:VTIMEZONE
END:VCALENDAR