BEGIN:VCALENDAR
VERSION:2.0
PRODID:-//wp-events-plugin.com//7.2.3.1//EN
TZID:America/Toronto
X-WR-TIMEZONE:America/Toronto
BEGIN:VEVENT
UID:1716@electrofed.com
DTSTART;TZID=America/Toronto:20240223T080000
DTEND;TZID=America/Toronto:20240223T163000
DTSTAMP:20240212T141957Z
URL:https://www.electrofed.com/events/efc-ontario-region-charity-ski-and-s
 nowshoe-day-2/
SUMMARY:EFC Ontario Region Charity Ski and Snowshoe Day
DESCRIPTION:\nJoin us on the slopes and trails Friday\, February 23rd\, 202
 4!\nAlpine Ski Club | 17-242 Arrowhead Road | The Blue Mountains\, Ontari
 o\n\nThis special networking event is in collaboration with the Ontario En
 ergy Network.\n\nWhether you ski\, snowboard\, or snowshoe\, the Ontario R
 egion Committee invites you to join your industry peers on the slopes or t
 rails of the Alpine Ski Club.\n\n"Skiing\, snowshoeing\, and hiking on the
  beautiful slopes of the illustrious Alpine Ski Club is a perfect way to g
 et away from the stress and anxiety of the office while still spending tim
 e with coworkers and industry friends for some valuable team building and 
 networking. I encourage company leaders to take advantage of the opportuni
 ty to promote health and wellness by advocating to their employees that th
 ey enjoy a day of fun physical activity in the open air on the slopes of B
 lue Mountain. Bring the whole team - there is something there for everyone
  and family and friends are welcome as well. I hope to see you there!"\n\n
 - John Hadley\, Intralec Electrical Products Ltd.\, Ontario Region Chair \
 n\n&nbsp\;\n\nAll are welcome! Bring your colleagues\, companions\, and ki
 ds for a fun day outdoors! Why not invite your YPN or bring you boss?\n\n&
 nbsp\;\n[themify_button nofollow="no" link="https://cvent.me/eYodeG" text=
 "#ffffff"]Register Now[/themify_button]\n&nbsp\;\n\nAgenda\n8:30 am – 10
 :15 am: Check in\n9:00 am - Slopes open\n11:00 am: Chalet lunch\, availabl
 e anytime after 11:00 am with event food and beverage voucher\n\nSki/Snows
 hoe Day Pass Includes\n\n 	Lift ticket or trail pass\n 	Hot lunch\n 	Apres
 -ski appetizers and beverages\n 	Networking opportunities\n\nAlso Availabl
 e\n\n 	Complimentary ski lessons: two set times available\n 	If required\,
  Ski and Snowshoe rentals are available at Squire Johns: Contact them dire
 ctly at 705-445-8761. Please ensure you book your rentals a minimum of two
  days prior to the event.\n\nDo you require hotel accommodations? EFC has 
 secured a small block of guest rooms at the Westin Trillium House for Feb
 ruary 22nd and 23rd. Special group rates are $229 and 1-bedroom suites ar
 e $249\, plus applicable taxes. Westin Trillium House includes restaurants
 \, hot tubs\, and hot pools. Reserve before February 1st\, 2024\, to rece
 ive the EFC special group rate. To reserve\, click here.\n\nView Alpine S
 ki Club Hill Conditions Here\n\n&nbsp\;\n\nThe EFC Ontario Region Executiv
 e Committee is proud to give back a portion of the events proceeds to CAMH
  to support mental wellness for Canadians.\n\n&nbsp\;\n\nSponsorship oppor
 tunities are available - if interested\, please contact Nathalie Lajoie at
  nlajoie@electrofed.com \n\nFor questions and inquires\, please contact J
 ade Hosick at jhosick@electrofed.com \n\n&nbsp\;\n[themify_button nofollo
 w="no" link="https://cvent.me/eYodeG" text="#ffffff"]Register Now[/themify
 _button]
CATEGORIES:National,Ontario
LOCATION:Alpine Ski Club\, 17-242 Arrowhead Road\, The Blue Mountains\, Ont
 ario\, L9Y 0S1\, Canada
X-APPLE-STRUCTURED-LOCATION;VALUE=URI;X-ADDRESS=17-242 Arrowhead Road\, The
  Blue Mountains\, Ontario\, L9Y 0S1\, Canada;X-APPLE-RADIUS=100;X-TITLE=Al
 pine Ski Club:geo:0,0
END:VEVENT
BEGIN:VTIMEZONE
TZID:America/Toronto
X-LIC-LOCATION:America/Toronto
BEGIN:STANDARD
DTSTART:20231105T010000
TZOFFSETFROM:-0400
TZOFFSETTO:-0500
TZNAME:EST
END:STANDARD
END:VTIMEZONE
END:VCALENDAR