BEGIN:VCALENDAR
VERSION:2.0
PRODID:-//wp-events-plugin.com//7.2.3.1//EN
TZID:America/Toronto
X-WR-TIMEZONE:America/Toronto
BEGIN:VEVENT
UID:1660@electrofed.com
DTSTART;TZID=America/Toronto;VALUE=DATE:20230303
DTEND;TZID=America/Toronto;VALUE=DATE:20230304
DTSTAMP:20230119T194824Z
URL:https://www.electrofed.com/events/efc-ontario-region-charity-ski-and-s
 nowshoe-day/
SUMMARY:EFC Ontario Region Charity Ski and Snowshoe Day
DESCRIPTION:\nJoin us on the slopes Friday\, March 3rd\, 2023!\nAlpine Ski 
 Club | 17-242 Arrowhead Road | The Blue Mountains\, Ontario\n\nThis speci
 al networking event is in collaboration with the Ontario Energy Network.\n
 \nWhether you ski\, snowboard\, or snowshoe\, the Ontario Region Committee
  invites you to join your industry peers on the slopes or trails of the A
 lpine Ski Club. The day begins with a continental breakfast\, followed by 
 chalet inspired hot lunch\, après-ski reception\, and lift tickets or tra
 il passes.\n\nAll are welcome! Bring your colleagues\, companions\, and ki
 ds for a fun day outdoors!\n\n[themify_button nofollow="no" link="https://
 cvent.me/Awr5Vx" text="#ffffff"]Register Now[/themify_button]\n\nAgenda\n8
 :30 am – 10:15 am: Check in and Continental Breakfast\n9:00 am - Slopes 
 open\n11:00 am: Chalet lunch\, available anytime after 11:00 am with event
  food and beverage voucher\n2:30 pm – 3:30pm: Après-ski Reception\n\nSk
 i/Snowshoe Day Pass Includes:\n\n 	Continental breakfast\n 	Hot lunch\n 	A
 près-ski appetizers and beverages\n 	Lift tickets or trial passes\n 	Netw
 orking opportunities\n\nAlso Available:\n\nComplimentary ski lessons: two 
 set times available\n\nIf required\, Ski and Snowshoe rentals are availabl
 e at Squire Johns: Contact them directly at 705-445-8761. Please allow a m
 inimum of two days before the event to book your rentals.\n\nDo you requir
 e hotel accommodations? EFC has secured a small block of guest rooms at th
 e Westin Trillium House for March 2nd and 3rd. Regular rates are $229 and
  1-bedroom suites are $249\, plus applicable taxes. Westin Trillium House
  includes restaurants\, hot tubs\, and hot pools. Complimentary parking
  is available nearby\, or valet on site. Reserve before Friday\, February
  17th\, 2023\, to receive the EFC special group rate. To book\, click her
 e.\n\n&nbsp\;\n\nThe EFC Ontario Region Executive Committee is proud to gi
 ve back a portion of the events proceeds to CAMH to support mental wellnes
 s for Canadians.\n\n&nbsp\;\n\nEFC would like to thank the following compa
 nies for their generosity and support.\n\n  \n\n&nbsp\;\n\n&nbsp\;\n\n&nbs
 p\;\n\n&nbsp\;\n\n&nbsp\;\n\n&nbsp\;\n\n&nbsp\;\n\n\n\n&nbsp\;\n\n&nbsp\;\
 n\n&nbsp\;\n\n&nbsp\;\n\nSponsorship opportunities are available – if i
 nterested\, please contact Nathalie Lajoie at nlajoie@electrofed.com\n\nF
 or questions and inquiries\, please contact Jade Hosick at jhosick@electro
 fed.com\n\n[themify_button nofollow="no" link="https://cvent.me/Awr5Vx" te
 xt="#ffffff"]Register Now[/themify_button]
CATEGORIES:National,Ontario
LOCATION:Alpine Ski Club\, 17-242 Arrowhead Road\, The Blue Mountains\, Ont
 ario\, L9Y 0S1\, Canada
X-APPLE-STRUCTURED-LOCATION;VALUE=URI;X-ADDRESS=17-242 Arrowhead Road\, The
  Blue Mountains\, Ontario\, L9Y 0S1\, Canada;X-APPLE-RADIUS=100;X-TITLE=Al
 pine Ski Club:geo:0,0
END:VEVENT
BEGIN:VTIMEZONE
TZID:America/Toronto
X-LIC-LOCATION:America/Toronto
BEGIN:STANDARD
DTSTART:20221106T010000
TZOFFSETFROM:-0400
TZOFFSETTO:-0500
TZNAME:EST
END:STANDARD
END:VTIMEZONE
END:VCALENDAR