BEGIN:VCALENDAR
VERSION:2.0
PRODID:-//wp-events-plugin.com//7.2.3.1//EN
TZID:America/Toronto
X-WR-TIMEZONE:America/Toronto
BEGIN:VEVENT
UID:1703@electrofed.com
DTSTART;TZID=America/Toronto:20231130T160000
DTEND;TZID=America/Toronto:20231130T190000
DTSTAMP:20231106T132316Z
URL:https://www.electrofed.com/events/efc-ontario-region-holiday-reception
 /
SUMMARY:EFC Ontario Region Holiday Reception
DESCRIPTION:\nStart the holiday season by celebrating with industry colleag
 ues and friends!\nYou’re Invited to EFC’s 2023 Ontario Region Holiday 
 Reception! Enjoy hors d'oeuvres and cocktails\, as you network with key in
 dustry leaders.\n$173.00 per person\n\nNovember 30th\, 2023\n4:00 pm – 7
 :00 pm\n\nParamount EventSpace\n22 Rowntree Dairy Road\nWoodbridge\, Ontar
 io L4L 9T2\n\n[themify_button bgcolor="red" size="large" nofollow="no" lin
 k="https://cvent.me/XRvy3e"]Register Here[/themify_button]
CATEGORIES:National,Ontario
LOCATION:Paramount EventSpace\, 222 Rowntree Dairy Rd\, Woodbridge\, Ontari
 o\, L4L 9T2\, Canada
GEO:43.783524;-79.551388
X-APPLE-STRUCTURED-LOCATION;VALUE=URI;X-ADDRESS=222 Rowntree Dairy Rd\, Woo
 dbridge\, Ontario\, L4L 9T2\, Canada;X-APPLE-RADIUS=100;X-TITLE=Paramount 
 EventSpace:geo:43.783524,-79.551388
END:VEVENT
BEGIN:VTIMEZONE
TZID:America/Toronto
X-LIC-LOCATION:America/Toronto
BEGIN:STANDARD
DTSTART:20231105T010000
TZOFFSETFROM:-0400
TZOFFSETTO:-0500
TZNAME:EST
END:STANDARD
END:VTIMEZONE
END:VCALENDAR