BEGIN:VCALENDAR
VERSION:2.0
PRODID:-//wp-events-plugin.com//7.2.3.1//EN
TZID:America/Toronto
X-WR-TIMEZONE:America/Toronto
BEGIN:VEVENT
UID:1322@electrofed.com
DTSTART;TZID=America/Toronto:20191212T173000
DTEND;TZID=America/Toronto:20191212T193000
DTSTAMP:20191022T015211Z
URL:https://www.electrofed.com/events/efc-quebec-region-christmas-receptio
 n-quebec-city/
SUMMARY:EFC Quebec Region Christmas Reception - Quebec City
DESCRIPTION:Quebec City - Le Centre Vidéotron
CATEGORIES:Quebec
LOCATION:Le Centre Vidéotron\, 250-B boulevard Wilfrid-Hamel\, Québec (vi
 lle)\, Québec \, G1L 5A7\, Quebec\, Canada
X-APPLE-STRUCTURED-LOCATION;VALUE=URI;X-ADDRESS=250-B boulevard Wilfrid-Ham
 el\, Québec (ville)\, Québec \, G1L 5A7\, Quebec\, Canada;X-APPLE-RADIUS
 =100;X-TITLE=Le Centre Vidéotron:geo:0,0
END:VEVENT
BEGIN:VTIMEZONE
TZID:America/Toronto
X-LIC-LOCATION:America/Toronto
BEGIN:STANDARD
DTSTART:20191103T010000
TZOFFSETFROM:-0400
TZOFFSETTO:-0500
TZNAME:EST
END:STANDARD
END:VTIMEZONE
END:VCALENDAR