BEGIN:VCALENDAR
VERSION:2.0
PRODID:-//wp-events-plugin.com//7.2.3.1//EN
TZID:America/Toronto
X-WR-TIMEZONE:America/Toronto
BEGIN:VEVENT
UID:1515@electrofed.com
DTSTART;TZID=America/Toronto:20210423T133000
DTEND;TZID=America/Toronto:20210423T150000
DTSTAMP:20210325T005050Z
URL:https://www.electrofed.com/events/electrification-trends-quebec-webina
 r/
SUMMARY:Electrification Trends - Quebec Webinar
DESCRIPTION:Join the Quebec Region Executive Committee for the webinar all 
 about electrification\, and the trends\, opportunities\, development and f
 uture of electrification in Canada and more specifically in Quebec.
CATEGORIES:Quebec
LOCATION:No location\, 190 Attwell Drive\, Toronto\, Canada
GEO:56.130366;-106.346771
X-APPLE-STRUCTURED-LOCATION;VALUE=URI;X-ADDRESS=190 Attwell Drive\, Toronto
 \, Canada;X-APPLE-RADIUS=100;X-TITLE=No location:geo:56.130366,-106.346771
END:VEVENT
BEGIN:VTIMEZONE
TZID:America/Toronto
X-LIC-LOCATION:America/Toronto
BEGIN:DAYLIGHT
DTSTART:20210314T030000
TZOFFSETFROM:-0500
TZOFFSETTO:-0400
TZNAME:EDT
END:DAYLIGHT
END:VTIMEZONE
END:VCALENDAR