BEGIN:VCALENDAR
VERSION:2.0
PRODID:-//wp-events-plugin.com//7.2.3.1//EN
TZID:America/Toronto
X-WR-TIMEZONE:America/Toronto
BEGIN:VEVENT
UID:1618@electrofed.com
DTSTART;TZID=America/Toronto:20220615T114500
DTEND;TZID=America/Toronto:20220615T131500
DTSTAMP:20220607T011941Z
URL:https://www.electrofed.com/events/national-ypn-day-quebec-region-2022/
SUMMARY:National YPN Day Celebration and Fundraiser - YPN Quebec Region
DESCRIPTION:Come join your fellow Quebec Region YPNers in celebration of th
 e National YPN Day. On June 15th\, all YPNs are invited to enjoy a delicio
 us lunch from the widely acclaimed foodtruck "La Confrérie"\, and to help
  raise funds in support of the Ukraine Humanitarian Crisis Appeal by the C
 anadian Red Cross.
CATEGORIES:Quebec
LOCATION:Anixter\, 3095 Boulevard Thimens\, Montréal (Saint-Laurent)\, Que
 bec\, H4R 1Y3\, Canada
X-APPLE-STRUCTURED-LOCATION;VALUE=URI;X-ADDRESS=3095 Boulevard Thimens\, Mo
 ntréal (Saint-Laurent)\, Quebec\, H4R 1Y3\, Canada;X-APPLE-RADIUS=100;X-T
 ITLE=Anixter:geo:0,0
END:VEVENT
BEGIN:VTIMEZONE
TZID:America/Toronto
X-LIC-LOCATION:America/Toronto
BEGIN:DAYLIGHT
DTSTART:20220313T030000
TZOFFSETFROM:-0500
TZOFFSETTO:-0400
TZNAME:EDT
END:DAYLIGHT
END:VTIMEZONE
END:VCALENDAR