BEGIN:VCALENDAR
VERSION:2.0
PRODID:-//wp-events-plugin.com//7.2.3.1//EN
TZID:America/Toronto
X-WR-TIMEZONE:America/Toronto
BEGIN:VEVENT
UID:1800@electrofed.com
DTSTART;TZID=America/Toronto:20251106T080000
DTEND;TZID=America/Toronto:20251106T100000
DTSTAMP:20251010T131813Z
URL:https://www.electrofed.com/events/qc-ypn-round-table-2025/
SUMMARY:Quebec YPN Round Table
DESCRIPTION: 
CATEGORIES:Quebec
LOCATION:Le Crystal salle de réception\, 5285 Henri-Bourassa O.\, St-Laure
 nt\, H4R 1B7\, Canada
GEO:0.000000;0.000000
X-APPLE-STRUCTURED-LOCATION;VALUE=URI;X-ADDRESS=5285 Henri-Bourassa O.\, St
 -Laurent\, H4R 1B7\, Canada;X-APPLE-RADIUS=100;X-TITLE=Le Crystal salle de
  réception:geo:0.000000,0.000000
END:VEVENT
BEGIN:VTIMEZONE
TZID:America/Toronto
X-LIC-LOCATION:America/Toronto
BEGIN:STANDARD
DTSTART:20251102T010000
TZOFFSETFROM:-0400
TZOFFSETTO:-0500
TZNAME:EST
END:STANDARD
END:VTIMEZONE
END:VCALENDAR