BEGIN:VCALENDAR
VERSION:2.0
PRODID:-//wp-events-plugin.com//7.2.3.1//EN
TZID:America/Toronto
X-WR-TIMEZONE:America/Toronto
BEGIN:VEVENT
UID:1304@electrofed.com
DTSTART;TZID=America/Toronto:20191125T130000
DTEND;TZID=America/Toronto:20191126T163000
DTSTAMP:20191023T144640Z
URL:https://www.electrofed.com/events/save-the-date-supply-chain-conferenc
 e/
SUMMARY:New! Supply Chain Conference
DESCRIPTION:The Canadian Electrical industry’s first conference centered 
 around supply chain management.
CATEGORIES:National,Ontario
LOCATION:Pearson Convention Center\, 2638 Steeles Ave E\, Toronto\, Canada
X-APPLE-STRUCTURED-LOCATION;VALUE=URI;X-ADDRESS=2638 Steeles Ave E\, Toront
 o\, Canada;X-APPLE-RADIUS=100;X-TITLE=Pearson Convention Center:geo:0,0
END:VEVENT
BEGIN:VTIMEZONE
TZID:America/Toronto
X-LIC-LOCATION:America/Toronto
BEGIN:STANDARD
DTSTART:20191103T010000
TZOFFSETFROM:-0400
TZOFFSETTO:-0500
TZNAME:EST
END:STANDARD
END:VTIMEZONE
END:VCALENDAR