BEGIN:VCALENDAR
VERSION:2.0
PRODID:-//wp-events-plugin.com//7.2.3.1//EN
TZID:America/Toronto
X-WR-TIMEZONE:America/Toronto
BEGIN:VEVENT
UID:1711@electrofed.com
DTSTART;TZID=America/Halifax:20230921T130000
DTEND;TZID=America/Halifax:20230921T140000
DTSTAMP:20230925T170742Z
URL:https://www.electrofed.com/events/save-the-date-ypn-atlantic-region-gr
 ow-event-with-mark-macdonald/
SUMMARY:YPN Atlantic Region GROW Event with Mark MacDonald
DESCRIPTION:\nThe rise of electrification will soon affect many parts of ou
 r lives - including our careers!\nEFC's Atlantic Region Young Professional
 s Network is pleased to present a virtual presentation with Mark MacDonald
 \, Principal\, Catalyst Sales and Marketing\, as he discusses decarbonizin
 g of transportation and how that may shape your future in the electrical i
 ndustry.\nSeptember 21\, 2023 | 1 p.m. AST | Virtual format | Complimentar
 y registration\nAbout Mark\n\nAn agency principal since 2007\, Mark’s fo
 cus is on understanding and building strong relationships in the market\, 
 ensuring high-quality standards are met both from the Catalyst team and th
 e products they represent\, and leading future growth by keeping a pulse o
 n the latest technology and developments.\n\nMark started his career with 
 Nortel Networks in Toronto before following his entrepreneurial spirit bac
 k to Atlantic Canada. He holds designations as a certified electronics eng
 ineering technologist (CET) and a Lighting Consultant (LC). He is a member
  of\, and currently sits on the board for\, the Atlantic Canadian chapter 
 of the Entrepreneurs’ Organization\, serving as the Strategic Alliance 
 Partnership champion.\n\nHe also serves as a sustainable energy advisor on
  the community council for VIDA living\, a real estate development compan
 y raising the standard of affordable rentals in North America.\n\nCost\n\n
 Complimentary registration! Thanks to the support of our YPN Atlantic reg
 ional sponsors\, we are able to provide this event without charge to all Y
 PN members.\n\nSpecial thank you to YPN Atlantic Regional sponsors: Grayba
 r Canada and Munden Enterprises \n\n\n\n[themify_button bgcolor="red" siz
 e="large" nofollow="no" link="https://us02web.zoom.us/meeting/register/tZc
 kd-ipqzIpGdCBhY2gTTeFV6GWKEHTj9IA"]REGISTER NOW[/themify_button]\n\n&nbsp\
 ;
CATEGORIES:Atlantic Canada
END:VEVENT
BEGIN:VTIMEZONE
TZID:America/Halifax
X-LIC-LOCATION:America/Halifax
BEGIN:DAYLIGHT
DTSTART:20230312T030000
TZOFFSETFROM:-0400
TZOFFSETTO:-0300
TZNAME:ADT
END:DAYLIGHT
END:VTIMEZONE
END:VCALENDAR