BEGIN:VCALENDAR
VERSION:2.0
PRODID:-//wp-events-plugin.com//7.2.3.1//EN
TZID:America/Toronto
X-WR-TIMEZONE:America/Toronto
BEGIN:VEVENT
UID:1616@electrofed.com
DTSTART;TZID=America/St_Johns:20220519T173000
DTEND;TZID=America/St_Johns:20220519T193000
DTSTAMP:20220429T174227Z
URL:https://www.electrofed.com/events/ypn-atlantic-region-gather-event-st-
 johns-nl/
SUMMARY:YPN Atlantic Region GATHER Event – St. John's\, NL
DESCRIPTION:  The YPN Atlantic Region is excited to welcome YPN's back out 
 and in-person for our first GATHER event of the year! Join your industry c
 olleagues for appetizers\, refreshments\, and of course networking!\n\nReg
 ister now!\n\nDate: May 19\, 2022\nTime: 5:30 p.m. to 7:30 p.m. NL Time\nL
 ocation: YellowBelly Brewery | 288 Water Street | St. John's\, NL\nFee: Co
 mplimentary\n\nPlease RSVP by Wednesday\, May 11\, 2022.\n\nThis event is 
 open to YPN members aged 40 and under. Don't miss this wonderful opportuni
 ty to connect with your industry colleagues in-person!\n\nThank you to our
  YPN Atlantic Regional Sponsors for making events like this possible!\n\n\
 n
CATEGORIES:Atlantic Canada
LOCATION:YellowBelly Brewery\, 288 Water Street\, St. John's\, Newfoundland
  and Labrador\, A1C 5J9\, Atlantic Canada \, Canada
X-APPLE-STRUCTURED-LOCATION;VALUE=URI;X-ADDRESS=288 Water Street\, St. John
 's\, Newfoundland and Labrador\, A1C 5J9\, Atlantic Canada \, Canada;X-APP
 LE-RADIUS=100;X-TITLE=YellowBelly Brewery:geo:0,0
END:VEVENT
BEGIN:VTIMEZONE
TZID:America/St_Johns
X-LIC-LOCATION:America/St_Johns
BEGIN:DAYLIGHT
DTSTART:20220313T030000
TZOFFSETFROM:-0430
TZOFFSETTO:-0330
TZNAME:NDT
END:DAYLIGHT
END:VTIMEZONE
END:VCALENDAR