BEGIN:VCALENDAR
VERSION:2.0
PRODID:-//wp-events-plugin.com//7.2.3.1//EN
TZID:America/Toronto
X-WR-TIMEZONE:America/Toronto
BEGIN:VEVENT
UID:1808@electrofed.com
DTSTART;TZID=America/Toronto:20241218T160000
DTEND;TZID=America/Toronto:20241218T190000
DTSTAMP:20241212T164108Z
URL:https://www.electrofed.com/events/ypn-ontario-holiday-gather-escape-ro
 om-adventure-gta/
SUMMARY:YPN Ontario Holiday GATHER: Escape Room Adventure (GTA)
DESCRIPTION:\n\nAre you ready for a challenge? Join your fellow Ontario Reg
 ion YPN's at Escape Manor (Toronto) on Wednesday\, December 18th at 4:00 P
 M for an evening of fun\, problem-solving\, and networking!\n\nRegistratio
 n Includes:\n\n 	Escape Room\n 	Networking Reception (Drinks &amp\; Appeti
 zers)\n\nRoom Options - For full room details\, click here\n\n 	Asylum\n 	
 Sherwood Forest\n\n[themify_button bgcolor="red" size="large" nofollow="no
 " link="https://cvent.me/nvAvAR"]Register now[/themify_button]
CATEGORIES:National
LOCATION:Escape Manor Toronto\, 383 King St. W \, Toronto\, Ontario\, M5V 1
 K1\, Canada
X-APPLE-STRUCTURED-LOCATION;VALUE=URI;X-ADDRESS=383 King St. W \, Toronto\,
  Ontario\, M5V 1K1\, Canada;X-APPLE-RADIUS=100;X-TITLE=Escape Manor Toront
 o:geo:0,0
END:VEVENT
BEGIN:VTIMEZONE
TZID:America/Toronto
X-LIC-LOCATION:America/Toronto
BEGIN:STANDARD
DTSTART:20241103T010000
TZOFFSETFROM:-0400
TZOFFSETTO:-0500
TZNAME:EST
END:STANDARD
END:VTIMEZONE
END:VCALENDAR