BEGIN:VCALENDAR
VERSION:2.0
PRODID:-//wp-events-plugin.com//7.2.3.1//EN
TZID:America/Toronto
X-WR-TIMEZONE:America/Toronto
BEGIN:VEVENT
UID:80@electrofed.com
DTSTART;TZID=America/Toronto:20181205T170000
DTEND;TZID=America/Toronto:20181205T200000
DTSTAMP:20210306T205746Z
URL:https://www.electrofed.com/events/ypn-ontario-region-christmas-gatheri
 ng/
SUMMARY:YPN Ontario Region Christmas Gathering
DESCRIPTION:Join in the festivities of the YPN Ontario Region Christmas Gat
 hering for appetizers\, cocktails\, and networking with industry peers. 
CATEGORIES:Ontario
LOCATION:3 Brewers Heartland\, 5860 Mavis Road\, Mississauga\, ON\, L5V3B7\
 , Canada
GEO:43.609012;-79.692109
X-APPLE-STRUCTURED-LOCATION;VALUE=URI;X-ADDRESS=5860 Mavis Road\, Mississau
 ga\, ON\, L5V3B7\, Canada;X-APPLE-RADIUS=100;X-TITLE=3 Brewers Heartland:g
 eo:43.609012,-79.692109
END:VEVENT
BEGIN:VTIMEZONE
TZID:America/Toronto
X-LIC-LOCATION:America/Toronto
BEGIN:STANDARD
DTSTART:20181104T010000
TZOFFSETFROM:-0400
TZOFFSETTO:-0500
TZNAME:EST
END:STANDARD
END:VTIMEZONE
END:VCALENDAR