BEGIN:VCALENDAR
VERSION:2.0
PRODID:-//wp-events-plugin.com//7.2.3.1//EN
TZID:America/Toronto
X-WR-TIMEZONE:America/Toronto
BEGIN:VEVENT
UID:1697@electrofed.com
DTSTART;TZID=America/Toronto:20230629T114500
DTEND;TZID=America/Toronto:20230629T131500
DTSTAMP:20230621T185639Z
URL:https://www.electrofed.com/events/ypn-quebec-region-national-ypn-day/
SUMMARY:YPN Quebec Region: National YPN Day
DESCRIPTION:The YPN Ontario region invites you to participate in the Nation
 al YPN Day plant workshop and celebration. There will be a food truck\, ga
 mes\, a GIVE food drive\, live music\, great company\, and more!
CATEGORIES:Quebec
LOCATION:YPN National day - Quebec\, 2233 Aviation Street\, Dorval\, Canada
 \, Québec\, Canada
X-APPLE-STRUCTURED-LOCATION;VALUE=URI;X-ADDRESS=2233 Aviation Street\, Dorv
 al\, Canada\, Québec\, Canada;X-APPLE-RADIUS=100;X-TITLE=YPN National day
  - Quebec:geo:0,0
END:VEVENT
BEGIN:VTIMEZONE
TZID:America/Toronto
X-LIC-LOCATION:America/Toronto
BEGIN:DAYLIGHT
DTSTART:20230312T030000
TZOFFSETFROM:-0500
TZOFFSETTO:-0400
TZNAME:EDT
END:DAYLIGHT
END:VTIMEZONE
END:VCALENDAR