BEGIN:VCALENDAR
VERSION:2.0
PRODID:-//wp-events-plugin.com//7.2.3.1//EN
TZID:America/Toronto
X-WR-TIMEZONE:America/Toronto
BEGIN:VEVENT
UID:1768@electrofed.com
DTSTART;TZID=America/Toronto:20241107T080000
DTEND;TZID=America/Toronto:20241107T100000
DTSTAMP:20240919T153224Z
URL:https://www.electrofed.com/events/ypn-quebec-region-panel-the-round-ta
 ble-2/
SUMMARY:YPN Quebec Region Panel  - The Round Table 2024
DESCRIPTION:EFC Quebec Region Young Professionals Network invites you to a 
 panel discussion with industry leaders.
CATEGORIES:Quebec
LOCATION:Le Crystal Banquet Hall\, 5285 boul. Henri-Bourassa O\, St-Laurent
 \, Quebec\, H4R 1B7\, Canada
GEO:45.520801;-73.711022
X-APPLE-STRUCTURED-LOCATION;VALUE=URI;X-ADDRESS=5285 boul. Henri-Bourassa O
 \, St-Laurent\, Quebec\, H4R 1B7\, Canada;X-APPLE-RADIUS=100;X-TITLE=Le Cr
 ystal Banquet Hall:geo:45.520801,-73.711022
END:VEVENT
BEGIN:VTIMEZONE
TZID:America/Toronto
X-LIC-LOCATION:America/Toronto
BEGIN:STANDARD
DTSTART:20241103T010000
TZOFFSETFROM:-0400
TZOFFSETTO:-0500
TZNAME:EST
END:STANDARD
END:VTIMEZONE
END:VCALENDAR