BEGIN:VCALENDAR
VERSION:2.0
PRODID:-//wp-events-plugin.com//7.2.3.1//EN
TZID:America/Toronto
X-WR-TIMEZONE:America/Toronto
BEGIN:VEVENT
UID:1679@electrofed.com
DTSTART;TZID=America/Toronto:20230406T160000
DTEND;TZID=America/Toronto:20230406T183000
DTSTAMP:20230317T030547Z
URL:https://www.electrofed.com/events/ypnontariogreenpanel/
SUMMARY:YPN Ontario Region: Greener Electrified Canada Panel - Hybrid
DESCRIPTION:The YPN Ontario Region Committee hosts an industry leader panel
  on “Greener Electrified Canada.”
CATEGORIES:National,Ontario
LOCATION:Southbrook Organic Vinyard\, 581 Niagara Stone Rd\, \, Niagara-on-
 the-Lake\, \, ON\, \, L0S 1J0\, Canada
X-APPLE-STRUCTURED-LOCATION;VALUE=URI;X-ADDRESS=581 Niagara Stone Rd\, \, N
 iagara-on-the-Lake\, \, ON\, \, L0S 1J0\, Canada;X-APPLE-RADIUS=100;X-TITL
 E=Southbrook Organic Vinyard:geo:0,0
END:VEVENT
BEGIN:VTIMEZONE
TZID:America/Toronto
X-LIC-LOCATION:America/Toronto
BEGIN:DAYLIGHT
DTSTART:20230312T030000
TZOFFSETFROM:-0500
TZOFFSETTO:-0400
TZNAME:EDT
END:DAYLIGHT
END:VTIMEZONE
END:VCALENDAR