BEGIN:VCALENDAR
VERSION:2.0
PRODID:-//wp-events-plugin.com//7.2.3.1//EN
TZID:America/Toronto
X-WR-TIMEZONE:America/Toronto
BEGIN:VEVENT
UID:1897@electrofed.com
DTSTART;TZID=America/Toronto:20261201T000000
DTEND;TZID=America/Toronto:20261201T000000
DTSTAMP:20260116T212505Z
URL:https://www.electrofed.com/fr/events/reservez-la-date-reception-des-fe
 tes-de-latlantique/
SUMMARY:Réservez la date : Réception des Fêtes de l’Atlantique
DESCRIPTION:         
END:VEVENT
BEGIN:VTIMEZONE
TZID:America/Toronto
X-LIC-LOCATION:America/Toronto
BEGIN:STANDARD
DTSTART:20261101T010000
TZOFFSETFROM:-0400
TZOFFSETTO:-0500
TZNAME:EST
END:STANDARD
END:VTIMEZONE
END:VCALENDAR